Workbook
Name Experiencia: Combos!$D$1
Name NombreVacante: Combos!$B$1
Name NombreVacantes: Combos!$B$2:$B$50

Sheet Combos
A1: Adscripción | B1: NombreVacante | C1: Vacantes compuestas | D1: Experiencia | E1: Documento | F1: Área academica | H1: Entidad | I1: Entidad vacantes | J1: Documentos | K1: Nivel de estudio | L1: Adscripción | M1: Lengua | N1: Variante | O1: Dominio
B2: Asistencia Técnica de Educación Cívica | C2: Asistencia Técnica de Educación Cívica | D2: 1 año en los últimos 10 años. | E2: Certificado | F2: Preferentemente Económico Administrativas. | H2: Aguascalientes | I2: Aguascalientes | J2: Certificado | K2: Bachillerato | L2: Dirección Ejecutiva de Capacitación Electoral y Educación Cívica | O2: La entiendo
B3: Asistencia Técnica de lo Contencioso Electoral | C3: Asistencia Técnica de lo Contencioso Electoral | D3: Sin experiencia | E3: Certificado | F3: No aplica | H3: Baja California | I3: Baja California | J3: Título | K3: Licenciatura | L3: Dirección Ejecutiva de Organización Electoral | O3: La hablo fluidamente
B4: Asistencia Técnica de Prerrogativas y Partidos Políticos | C4: Asistencia Técnica de Prerrogativas y Partidos Políticos | D4: 1 año en los últimos 10 años. | E4: Certificado | F4: Preferentemente Económico Administrativas. | H4: Baja California Sur | I4: Baja California Sur | J4: Cédula Profesional | K4: Especialidad | L4: Dirección Ejecutiva de Prerrogativas y Partidos Políticos | O4: La escribo
B5: Asistencia Técnica de Organización Electoral | C5: Asistencia Técnica de Organización Electoral | D5: 1 año en los últimos 10 años. | E5: Certificado | F5: Preferentemente Económico Administrativas. | H5: Campeche | I5: Campeche | J5: Título y Cédula Profesional | K5: Maestría | L5: Dirección Ejecutiva del Registro Federal de Electores | O5: La interpreto
B6: Asistencia Ténica en Igualdad de Género y No Discriminación | C6: Asistencia Ténica en Igualdad de Género y No Discriminación | D6: 1 año en los últimos 10 años. | E6: Certificado | F6: Preferentemente Ciencias sociales y humanidades. | H6: Coahuila | I6: Coahuila | J6: Grado | K6: Doctorado | L6: Junta Distrital Ejecutiva | O6: La traduzco
B7: Asistencia Técnica de Sistemas Normativos Pluriculturales | C7: Asistencia Técnica de Sistemas Normativos Pluriculturales | D7: 1 año en los últimos 10 años. | E7: Certificado | F7: No aplica | H7: Colima | I7: Colima | J7: Grado y Cédula Profesional | K7: Otro | L7: Junta Local Ejecutiva | O7: La entiendo y la hablo fluidamente
B8: Asistencia Técnica de Participación Ciudadana | C8: Asistencia Técnica de Participación Ciudadana | D8: 1 año en los últimos 10 años. | E8: Certificado | F8: Preferentemente Sociales y Humanidades | H8: Chiapas | I8: Chiapas | J8: Otro | L8: Unidad Técnica de Fiscalización | O8: La entiendo y la escribo
B9: Asistencia Técnica de Vinculación con el Instituto Nacional Electoral | C9: Asistencia Técnica de Vinculación con el Instituto Nacional Electoral | D9: Sin experiencia | E9: Certificado | F9: No aplica | H9: Chihuahua | I9: Chihuahua | L9: Unidad Técnica de lo Contencioso Electoral | O9: La entiendo y la interpreto
B10: Asistencia Técnica de Asuntos Indígenas | C10: Asistencia Técnica de Asuntos Indígenas | D10: 1 año en los últimos 10 años. | E10: Certificado | F10: Preferentemente Ciencias sociales y humanidades. | H10: Ciudad de México | I10: Ciudad de México | L10: Unidad Técnica de Vinculación con Organismos Públicos Locales | O10: La entiendo y la traduzco
B11: Asistencia Técnica de Órgano Desconcentrado en OPLE | C11: Asistencia Técnica de Órgano Desconcentrado en OPLE | D11: Sin experiencia | E11: Certificado | F11: No aplica | H11: Durango | I11: Durango | O11: La hablo fluidamente y la escribo
B12: Coordinación de lo Contencioso Electoral | C12: Coordinación de lo Contencioso Electoral | D12: 3 años en los últimos 10 años. | E12: Con Título o cédula profesional | F12: Derecho | H12: Guanajuato | I12: Guanajuato | O12: La hablo fluidamente y la interpreto
B13: Coordinación de Vinculación con el Instituto Nacional Electoral | C13: Coordinación de Vinculación con el Instituto Nacional Electoral | D13: 3 años en los últimos 10 años. | E13: Con Título o cédula profesional | F13: Derecho, Administración Pública, Ciencia Política, Sociología o áreas afines | H13: Guerrero | I13: Guerrero | O13: La hablo fluidamente y la traduzco
B14: Coordinación de Organización Electoral | C14: Coordinación de Organización Electoral | D14: 3 años en los últimos 10 años. | E14: Con Título o cédula profesional | F14: Economía, Administración, Derecho, Ciencia Política, Administración Pública, Educación, Actuaría, Matemáticas, Informática, o áreas afines | H14: Hidalgo | I14: Hidalgo | O14: La escribo y la interpreto
B15: Coordinación de Participación Ciudadana | C15: Coordinación de Participación Ciudadana | D15: 3 años en los últimos 10 años. | E15: Con Título o cédula profesional | F15: Pedagogía, Educación, Psicología, Sociología, Comunicación, Trabajo Social o áreas afines | H15: Jalisco | I15: Jalisco | O15: La escribo y la traduzco
B16: Coordinación de Prerrogativas y Partidos Políticos | C16: Coordinación de Prerrogativas y Partidos Políticos | D16: 3 años en los últimos 10 años. | E16: Con Título o cédula profesional | F16: Administración Pública, Administración Financiera, Derecho, Contabilidad, Ciencia Política y áreas afines | H16: México | I16: México | O16: La interpreto y la traduzco
B17: Coordinación de Educación Cívica | C17: Coordinación de Educación Cívica | D17: 3 años en los últimos 10 años | E17: Con Título o cédula profesional | F17: Educación, Pedagogía, Psicología Educativa, Psicología Social, Sociología, Antropología Social, Comunicación, Trabajo Social o áreas afines. | H17: Michoacán | I17: Michoacán | O17: La entiendo, la hablo fluidamente y la escribo
B18: Coordinación en Igualdad de Género y No Discriminación (Único) | C18: Coordinación en Igualdad de Género y No Discriminación (Único) | D18: 3 años en los últimos 10 años. | E18: Con Título o cédula profesional | F18: Derecho, Administración Pública, Ciencia Política, Sociología, Relaciones Internacionales, Psicología, Trabajo Social, Pedagogía, Estudios Interculturales, Estudios de Género, Derechos Humanos o áreas afines. | H18: Morelos | I18: Nayarit | O18: La entiendo, la hablo fluidamente y la interpreto
B19: Coordinación para el Fortalecimiento de Sistemas Normativos Pluriculturales (Único) | C19: Coordinación para el Fortalecimiento de Sistemas Normativos Pluriculturales (Único) | D19: 3 años en los últimos 5 años. | E19: Con Título o cédula profesional | F19: Antropología, Sociología, Etnología, Humanidades o áreas afines | H19: Nayarit | I19: Nuevo León | O19: La entiendo, la hablo fluidamente y la traduzco
B20: Jefe de Departamento de Organización Electoral | C20: Jefe de Departamento de Organización Electoral | D20: 2 años en los últimos 4 años. | E20: Con Título o cédula profesional | F20: Economía, Administración, Derecho, Ciencia Política, Administración Pública, Educación, Actuaría, Matemáticas, Informática o áreas afines. | H20: Nuevo León | I20: Oaxaca | O20: La entiendo, la escribo y la interpreto
B21: Jefatura de Departamento de Prerrogativas y Partidos Políticos | C21: Jefatura de Departamento de Prerrogativas y Partidos Políticos | D21: 2 años en los últimos 4 años. | E21: Con Título o cédula profesional | F21: Administración Pública, Administración Financiera,Derecho, Contabilidad, Ciencia Política y áreas afines | H21: Oaxaca | I21: Puebla | O21: La entiendo, la escribo y la traduzco
B22: Jefatura de Departamento de Educación Cívica | C22: Jefatura de Departamento de Educación Cívica | D22: 2 años en los últimos 4 años. | E22: Con Título o cédula profesional | F22: Educación,Pedagogía, Psicología Educativa, Psicología Social, Sociología, Antropología Social, Comunicación, Trabajo Social, Historia o áreas afines. | H22: Puebla | I22: Quintana Roo | O22: La entiendo, la interpreto y la traduzco
... B29: Jefatura de Unidad de Participación Ciudadana | C29: Jefatura de Unidad de Participación Ciudadana | D29: 3 años en los últimos 6 años. | E29: Con Título o cédula profesional | F29: Pedagogía, Educación, Psicología, Sociología, Comunicación, Trabajo Social, Historia, Filosofía, Derecho o áreas afines | H29: Tamaulipas | I29: Zacatecas | O29: La entiendo, la hablo fluidamente, la interpreto y la traduzco
B30: Secretaría de Órgano Desconcentrado en OPLE | C30: Secretaría de Órgano Desconcentrado en OPLE | D30: 3 años en los últimos 6 años. | E30: Con Título o cédula profesional | F30: Derecho, Ciencia Política, Administración Pública, Economía, Administración o áreas afines | H30: Tlaxcala | O30: La entiendo, la escribo, la interpreto y la traduzco
B31: Subcoordinación de Educación Cívica, Organización Electoral y Participación Ciudadana | C31: Subcoordinación de Educación Cívica, Organización Electoral y Participación Ciudadana | D31: 3 años en los últimos 6 años. | E31: Con Título o cédula profesional | F31: Ciencias de la Educación y Psicología, Ciencias Sociales y Humanidades, Administración y áreas afines | H31: Veracruz | O31: La hablo fluidamente, la escribo, la interpreto y la traduzco
B32: Titular del Órgano Desconcentrado en OPLE | C32: Titular del Órgano Desconcentrado en OPLE | D32: 4 años en los últimos 10 años. | E32: Con Título o cédula profesional | F32: Economía, Administración, Derecho, Ciencia Política, Administración Pública, Educación, Psicología o áreas afines | H32: Yucatán | O32: La entiendo, la hablo fluidamente, la escribo, la interpreto y la traduzco
H33: Zacatecas

Sheet Hoja1
A1: Adscripción | B1: NombreVacante | C1: Vacantes compuestas | D1: Experiencia | E1: Documento | F1: Área academica
A2: Unidad Técnica de Fiscalización | B2: Analista en Auditoria (Junta Local) | C2: Analista en Auditoria (Junta Local) | D2: 0 | E2: Con Título o cédula profesional | F2: Contabilidad
A3: Unidad Técnica de Fiscalización | B3: Analista Jurídico Resolutor A | C3: Analista Jurídico Resolutor A | D3: 0 | E3: Con Título o cédula profesional | F3: Derecho, Contabilidad y fiscalización.
A4: Unidad Técnica de Fiscalización | B4: Analista Jurídico Resolutor B | C4: Analista Jurídico Resolutor B | D4: 0 | E4: Con Título o cédula profesional | F4: Derecho, Contabilidad y fiscalización.
A5: Junta Local Ejecutiva | B5: Coordinación Operativa A | C5: Coordinación Operativa A | D5: 1 año en los últimos 3 años. | E5: Con Título o cédula profesional | F5: Todas
A6: Unidad Técnica de Fiscalización | B6: Enlace de Fiscalización | C6: Enlace de Fiscalización | D6: 1 año en los últimos 3 años. | E6: Con Título o cédula profesional | F6: Contabilidad
A7: Junta Local Ejecutiva | B7: Jefatura de Actualización al Padrón | C7: Jefatura de Actualización al Padrón | D7: 0 | E7: Con Título o cédula profesional | F7: Todas
A8: Dirección Ejecutiva de Organización Electoral | B8: Jefatura de Departamento de Almacenamiento y Distribución | C8: Jefatura de Departamento de Almacenamiento y Distribución | D8: 1 año en los últimos 3 años. | E8: Con Título o cédula profesional | F8: Todas
A9: Unidad Técnica de Fiscalización | B9: Jefatura de Departamento de Auditoría | C9: Jefatura de Departamento de Auditoría | D9: 1 año en los últimos 3 años. | E9: Con Título o cédula profesional | F9: Contabilidad y Fiscalización, Desarrollo de Software, Tecnologías de la Información y Comunicaciones
A10: Unidad Técnica de Vinculación con Organismos Públicos Locales | B10: Jefatura de Departamento de Convenios y Contenidos Normativos | C10: Jefatura de Departamento de Convenios y Contenidos Normativos | D10: 1 año en los últimos 3 años. | E10: Con Título o cédula profesional | F10: Derecho, Finanzas, banca y seguros, Contabilidad y fiscalización, Administración de empresas, Administración pública
A11: Unidad Técnica de Vinculación con Organismos Públicos Locales | B11: Jefatura de Departamento de Coordinación con Organismos Públicos Locales Electorales | C11: Jefatura de Departamento de Coordinación con Organismos Públicos Locales Electorales | D11: 1 año en los últimos 3 años. | E11: Con Título o cédula profesional | F11: Todas
A12: Dirección Ejecutiva de Organización Electoral | B12: Jefatura de Departamento de Coordinación y Seguimiento de Órganos Desconcentrados | C12: Jefatura de Departamento de Coordinación y Seguimiento de Órganos Desconcentrados | D12: 1 año en los últimos 3 años. | E12: Con Título o cédula profesional | F12: Todas
A13: Dirección Ejecutiva de Capacitación Electoral y Educación Cívica | B13: Jefatura de Departamento de Desarrollo de Métodos para la Educación Formal | C13: Jefatura de Departamento de Desarrollo de Métodos para la Educación Formal | D13: 1 año en los últimos 3 años. | E13: Con Título o cédula profesional | F13: Educación, Artes y humanidades, Ciencias sociales y derecho, Administración y negocios, Ciencias naturales, matemáticas y estadística, Tecnologías de la información y la comunicación, Ingeniería, manufactura y construcción, Ciencias de la Salud.
A14: Dirección Ejecutiva de Capacitación Electoral y Educación Cívica | B14: Jefatura de Departamento de Diseño de Estrategias para la Capacitación Electoral | C14: Jefatura de Departamento de Diseño de Estrategias para la Capacitación Electoral | D14: 1 año en los últimos 3 años. | E14: Con Título o cédula profesional | F14: Educación, Artes y humanidades, Ciencias sociales y derecho, Administración y negocios, Ciencias naturales, matemáticas y estadística, Tecnologías de la información y la comunicación, Ingeniería, manufactura y construcción, Ciencias de la Salud.
A15: Dirección Ejecutiva del Registro Federal de Electores | B15: Jefatura de Departamento de Estrategias de Capacitación | C15: Jefatura de Departamento de Estrategias de Capacitación | D15: 1 año en los últimos 3 años. | E15: Con Título o cédula profesional | F15: Educación, Ciencias sociales y Derecho, Administración y Negocios.
A16: Dirección Ejecutiva del Registro Federal de Electores | B16: Jefatura de Departamento de Evaluación Demográfica | C16: Jefatura de Departamento de Evaluación Demográfica | D16: 1 año en los últimos 3 años. | E16: Con Título o cédula profesional | F16: Ciencias Sociales y Estudios del Comportamiento, Demografía, Estadística y Actuaría, Geografía Social.
A17: Dirección Ejecutiva de Prerrogativas y Partidos Políticos | B17: Jefatura de Departamento de Financiamiento Público | C17: Jefatura de Departamento de Financiamiento Público | D17: 1 año en los últimos 3 años. | E17: Con Título o cédula profesional | F17: Todas
A18: Dirección Ejecutiva de Capacitación Electoral y Educación Cívica | B18: Jefatura de Departamento de Gestión del Conocimiento e Innovación | C18: Jefatura de Departamento de Gestión del Conocimiento e Innovación | D18: 1 año en los últimos 3 años. | E18: Con Título o cédula profesional | F18: Educación, Artes y humanidades, Ciencias sociales y derecho, Administración y negocios, Ciencias naturales, matemáticas y estadística, Tecnologías de la información y la comunicación, Ingeniería, manufactura y construcción, Ciencias de la Salud.
A19: Dirección Ejecutiva de Organización Electoral | B19: Jefatura de Departamento de Información y Seguimiento | C19: Jefatura de Departamento de Información y Seguimiento | D19: 1 año en los últimos 3 años. | E19: Con Título o cédula profesional | F19: Todas
... A30: Dirección Ejecutiva de Capacitación Electoral y Educación Cívica | B30: Jefatura de Departamento de Vinculación con Órganos Desconcentrados | C30: Jefatura de Departamento de Vinculación con Órganos Desconcentrados | D30: 1 año en los últimos 3 años. | E30: Con Título o cédula profesional | F30: Educación, Artes y humanidades, Ciencias sociales y derecho, Administración y negocios, Ciencias naturales, matemáticas y estadística, Tecnologías de la información y la comunicación, Ingeniería, manufactura y construcción, Ciencias de la Salud.
A31: Junta Local Ejecutiva | B31: Jefatura de Depuración al Padrón | C31: Jefatura de Depuración al Padrón | D31: 0 | E31: Con Título o cédula profesional | F31: Todas
A32: Junta Local Ejecutiva | B32: Jefatura de Oficina de Cartografía Estatal | C32: Jefatura de Oficina de Cartografía Estatal | D32: 0 | E32: Con Título o cédula profesional | F32: Todas
A33: Dirección Ejecutiva de Capacitación Electoral y Educación Cívica | B33: Jefatura de Oficina de Relaciones Institucionales y Convenios | C33: Jefatura de Oficina de Relaciones Institucionales y Convenios | D33: 1 año en los últimos 3 años. | E33: Con Título o cédula profesional | F33: Educación, Artes y humanidades, Ciencias sociales y derecho, Administración y negocios, Ciencias naturales, matemáticas y estadística, Tecnologías de la información y la comunicación, Ingeniería, manufactura y construcción
A34: Junta Local Ejecutiva | B34: Jefatura de Oficina de Seguimiento y Análisis | C34: Jefatura de Oficina de Seguimiento y Análisis - JLE | D34: 0 | E34: Con Título o cédula profesional | F34: Todas
A35: Junta Distrital Ejecutiva | B35: Jefatura de Oficina de Seguimiento y Análisis | C35: Jefatura de Oficina de Seguimiento y Análisis - JDE | D35: 0 | E35: Con Título o cédula profesional | F35: Todas
A36: Junta Local Ejecutiva | B36: Jefatura del Centro Estatal de Consulta Electoral y Orientación Ciudadana | C36: Jefatura del Centro Estatal de Consulta Electoral y Orientación Ciudadana - JLE | D36: 0 | E36: Con Título o cédula profesional | F36: Todas
A37: Dirección Ejecutiva de Prerrogativas y Partidos Políticos | B37: Subdirección de Planeación y Gestión de Transmisiones | C37: Subdirección de Planeación y Gestión de Transmisiones | D37: 3 años en los últimos 6 años. | E37: Con Título o cédula profesional | F37: Todas
A38: Unidad Técnica de lo Contencioso Electoral | B38: Subdirección de Procedimientos Administrativos Sancionadores | C38: Subdirección de Procedimientos Administrativos Sancionadores | D38: 3 años en los últimos 6 años. | E38: Con Título o cédula profesional | F38: Preferentemente egresados de la licenciatura en Derecho, o cualquier otra carrera profesional, siempre que demuestren experiencia y conocimientos del orden jurídico nacional e internacional, interpretación y argumentación jurídica, valoración de pruebas y redacción de documentos jurídicos.
A39: Unidad Técnica de Fiscalización | B39: Subdirección de Resoluciones y Normatividad | C39: Subdirección de Resoluciones y Normatividad | D39: 3 años en los últimos 6 años. | E39: Con Título o cédula profesional | F39: Derecho
A40: Dirección Ejecutiva del Registro Federal de Electores | B40: Subdirección de Verificación en Campo | C40: Subdirección de Verificación en Campo | D40: 3 años en los últimos 6 años. | E40: Con Título o cédula profesional | F40: Todas.
A41: Junta Local Ejecutiva | B41: Vocalía de Capacitación Electoral y Educación Cívica | C41: Vocalía de Capacitación Electoral y Educación Cívica - JLE | D41: 3 años en los últimos 6 años. | E41: Con Título o cédula profesional | F41: Todas
A42: Junta Distrital Ejecutiva | B42: Vocalía de Capacitación Electoral y Educación Cívica | C42: Vocalía de Capacitación Electoral y Educación Cívica - JDE | D42: 2 años en los últimos 4 años. | E42: Con Título o cédula profesional | F42: Todas
A43: Junta Local Ejecutiva | B43: Vocalía de Organización Electoral | C43: Vocalía de Organización Electoral -JLE | D43: 3 años en los últimos 6 años. | E43: Con Título o cédula profesional | F43: Todas
A44: Junta Distrital Ejecutiva | B44: Vocalía de Organización Electoral | C44: Vocalía de Organización Electoral - JDE | D44: 2 años en los últimos 4 años. | E44: Con Título o cédula profesional | F44: Todas
A45: Junta Local Ejecutiva | B45: Vocalía del Registro Federal de Electores | C45: Vocalía del Registro Federal de Electores -JLE | D45: 3 años en los últimos 6 años. | E45: Con Título o cédula profesional | F45: Todas
A46: Junta Distrital Ejecutiva | B46: Vocalía del Registro Federal de Electores | C46: Vocalía del Registro Federal de Electores - JDE | D46: 2 años en los últimos 4 años. | E46: Con Título o cédula profesional | F46: Todas
A47: Junta Local Ejecutiva | B47: Vocalía Ejecutiva | C47: Vocalía Ejecutiva - JLE | D47: 4 años en los últimos 8 años. | E47: Con Título o cédula profesional | F47: Todas
A48: Junta Distrital Ejecutiva | B48: Vocalía Ejecutiva | C48: Vocalía Ejecutiva - JDE | D48: 3 años en los últimos 6 años. | E48: Con Título o cédula profesional | F48: Todas
... A50: Junta Distrital Ejecutiva | B50: Vocalía Secretarial | C50: Vocalía Secretarial - JDE | D50: 3 años en los últimos 6 años. | E50: Con Título o cédula profesional | F50: Todas

Sheet Instructivo
A1: Instructivo para el llenado del currículum vitae · Concurso Público del sistema OPLE 2026
A3: Consideraciones generales
A5: Antes de iniciar el llenado del formato, toma en cuenta lo siguiente:
A7: Lee cuidadosamente la Convocatoria vigente del Concurso Público del sistema OPLE 2026 y las indicaciones de la etapa de verificación de requisitos.
A8: La información capturada deberá ser congruente con la documentación que presentes y permitir identificar los periodos, cargos y funciones que deseas acreditar.
A9: Todos los documentos deberán ser legibles y encontrarse completos.
A10: No omitas información requerida en ninguno de los apartados.
A11: La información proporcionada se considera presentada bajo protesta de decir verdad.
A12: La DESPEN podrá verificar la autenticidad de la documentación presentada.
A13: En caso de proporcionar información falsa o documentación alterada, se aplicarán las consecuencias previstas en la Convocatoria y demás normatividad aplicable.
A15: Datos Generales
A16: En este apartado deberás proporcionar tus datos de identificación.
... A123: Revisaste cuidadosamente cada apartado antes del envío.

Sheet CV-DESPEN
B1: Currículum vitae para la acreditación de requisitos
B2: Verificación del cumplimiento de requisitos del 10 al 16 de octubre 2026
B4: DATOS GENERALES
B5: Nombre Completo:
B6: Folio de Registro: | C6: CPOPL-01-2026-
B7: Cargo o Puesto por el que Concursa: | E7: Entidad de la vacante:
B8: Entidad de Residencia:
B10: PERFIL DEL CARGO O PUESTO
B11: Nivel de Estudio | C11: Licenciatura | E11: Grado de avance | F11: =IFERROR(VLOOKUP(C7, Combos!C2:F50, 3, FALSE), "")
B12: Área acádémica | C12: =IFERROR(VLOOKUP(C7, Combos!C2:F50, 4, FALSE), "") | E12: Años de experiencia | F12: =IFERROR(VLOOKUP(C7, Combos!C2:F50, 2, FALSE), "")
B14: INFORMACIÓN ACADÉMICA
B15: No | C15: Nivel de Estudios | D15: Carrera | E15: Fecha de Término | F15: Comprobante Exhibido | G15: Observaciones
B16: 1
B17: 2
B18: 3
B20: EXPERIENCIA LABORAL
B21: Empresa o Institución | C21: Cargo o puesto desempeñado | D21: Funciones desempeñadas | E21: Comprobante de experiencia | F21: Fecha de inicio | G21: Fecha fin | H21: Tiempo computado | I21: Columna1
H22: =IF(OR(F22="", G22=""), "", DATEDIF(F22, G22+1, "y") & " años, " & DATEDIF(F22, G22+1, "ym") & " mes y " & DATEDIF(F22, G22+1, "md") & " días") | I22: =IF(OR(F22="", G22=""), 0, DATEDIF(F22,G22+1,"y")*1000000 + DATEDIF(F22,G22+1,"ym")*1000 + DATEDIF(F22,G22+1,"md")) -> 0
H23: =IF(OR(F23="", G23=""), "", DATEDIF(F23, G23+1, "y") & " años, " & DATEDIF(F23, G23+1, "ym") & " mes y " & DATEDIF(F23, G23+1, "md") & " días") | I23: =IF(OR(F23="", G23=""), 0, DATEDIF(F23,G23+1,"y")*1000000 + DATEDIF(F23,G23+1,"ym")*1000 + DATEDIF(F23,G23+1,"md")) -> 0
H24: =IF(OR(F24="", G24=""), "", DATEDIF(F24, G24+1, "y") & " años, " & DATEDIF(F24, G24+1, "ym") & " mes y " & DATEDIF(F24, G24+1, "md") & " días") | I24: =IF(OR(F24="", G24=""), 0, DATEDIF(F24,G24+1,"y")*1000000 + DATEDIF(F24,G24+1,"ym")*1000 + DATEDIF(F24,G24+1,"md")) -> 0
H25: =IF(OR(F25="", G25=""), "", DATEDIF(F25, G25+1, "y") & " años, " & DATEDIF(F25, G25+1, "ym") & " mes y " & DATEDIF(F25, G25+1, "md") & " días") | I25: =IF(OR(F25="", G25=""), 0, DATEDIF(F25,G25+1,"y")*1000000 + DATEDIF(F25,G25+1,"ym")*1000 + DATEDIF(F25,G25+1,"md")) -> 0
H26: =IF(OR(F26="", G26=""), "", DATEDIF(F26, G26+1, "y") & " años, " & DATEDIF(F26, G26+1, "ym") & " mes y " & DATEDIF(F26, G26+1, "md") & " días") | I26: =IF(OR(F26="", G26=""), 0, DATEDIF(F26,G26+1,"y")*1000000 + DATEDIF(F26,G26+1,"ym")*1000 + DATEDIF(F26,G26+1,"md")) -> 0
H27: =IF(OR(F27="", G27=""), "", DATEDIF(F27, G27+1, "y") & " años, " & DATEDIF(F27, G27+1, "ym") & " mes y " & DATEDIF(F27, G27+1, "md") & " días") | I27: =IF(OR(F27="", G27=""), 0, DATEDIF(F27,G27+1,"y")*1000000 + DATEDIF(F27,G27+1,"ym")*1000 + DATEDIF(F27,G27+1,"md")) -> 0
H28: =IF(OR(F28="", G28=""), "", DATEDIF(F28, G28+1, "y") & " años, " & DATEDIF(F28, G28+1, "ym") & " mes y " & DATEDIF(F28, G28+1, "md") & " días") | I28: =IF(OR(F28="", G28=""), 0, DATEDIF(F28,G28+1,"y")*1000000 + DATEDIF(F28,G28+1,"ym")*1000 + DATEDIF(F28,G28+1,"md")) -> 0
H29: =IF(OR(F29="", G29=""), "", DATEDIF(F29, G29+1, "y") & " años, " & DATEDIF(F29, G29+1, "ym") & " mes y " & DATEDIF(F29, G29+1, "md") & " días") | I29: =IF(OR(F29="", G29=""), 0, DATEDIF(F29,G29+1,"y")*1000000 + DATEDIF(F29,G29+1,"ym")*1000 + DATEDIF(F29,G29+1,"md")) -> 0
F30: Total computado | H30: =IF(I30=0, "", (INT(I30/1000000)+INT((MOD(INT(I30/1000),1000)+INT(MOD(I30,1000)/30))/12)) & " años, " & MOD(MOD(INT(I30/1000),1000)+INT(MOD(I30,1000)/30),12) & " mes y " & MOD(MOD(I30,1000),30) & " días") | I30: =SUM(I22:I29) -> 0
C34: DOMINIO DE LENGUAS INDÍGENAS NACIONALES
C35: Bajo protesta de decir verdad, manifiesto que poseo habilidades de comunicación en la o las siguientes lenguas indígenas nacionales:
C36: NO. | D36: LENGUA | E36: VARIANTE | F36: NIVEL DE DOMINIO
C37: 1
C38: 2
C39: 3
C42: =IF(C5="","",C5)
C43: NOMBRE Y FIRMA DE LA PERSONA ASPIRANTE

Sheet EJEMPLO
B1: Currículum vitae para la acreditación de requisitos
B2: Verificación del cumplimiento de requisitos del 10 al 16 de octubre 2026
B4: DATOS GENERALES
B5: Nombre Completo: | C5: JUAN JOSÉ GONZÁLEZ PÉREZ
B6: Folio de Registro: | C6: CPOPL-01-2026- | E6: 000000
B7: Cargo o Puesto por el que Concursa: | C7: Coordinación de Participación Ciudadana | E7: Entidad de la vacante: | F7: Chiapas
B8: Entidad de Residencia:
B10: PERFIL DEL CARGO O PUESTO
B11: Nivel de Estudio | C11: Licenciatura | E11: Grado de avance | F11: =IFERROR(VLOOKUP(C7, Combos!C2:F50, 3, FALSE), "") -> Con Título o cédula profesional
B12: Área acádémica | C12: =IFERROR(VLOOKUP(C7, Combos!C2:F50, 4, FALSE), "") -> Pedagogía, Educación, Psicología, Sociología, Comunicación, Trabajo Social o áreas afines | E12: Años de experiencia | F12: =IFERROR(VLOOKUP(C7, Combos!C2:F50, 2, FALSE), "") -> 3 años en los últimos 10 años.
B14: INFORMACIÓN ACADÉMICA
B15: No | C15: Nivel de Estudios | D15: Carrera | E15: Fecha de Término | F15: Comprobante Exhibido | G15: Observaciones
B16: 1 | C16: Bachillerato | D16: NO APLICA | E16: 46023 | F16: Certificado
B17: 2
B18: 3
B20: EXPERIENCIA LABORAL
B21: Empresa o Institución | C21: Cargo o puesto desempeñado | D21: Funciones desempeñadas | E21: Comprobante de experiencia | F21: Fecha de inicio | G21: Fecha fin | H21: Tiempo computado | I21: Columna1
B22: Instituto Nacional Electoral | C22: Asistente técnico de educación cívica | D22: Elaboración de programas, desarrollo de contenidos para la capacitación ciudadana, impartición de cursos a la ciudadania | E22: Nombramiento, recibos de pago, constancia laboral expedida por el OPLE | F22: 45658 | G22: 46023 | H22: =IF(OR(F22="", G22=""), "", DATEDIF(F22, G22+1, "y") & " años, " & DATEDIF(F22, G22+1, "ym") & " mes y " & DATEDIF(F22, G22+1, "md") & " días") -> 1 años, 0 mes y 1 días | I22: =IF(OR(F22="", G22=""), 0, DATEDIF(F22,G22+1,"y")*1000000 + DATEDIF(F22,G22+1,"ym")*1000 + DATEDIF(F22,G22+1,"md")) -> 1000001
H23: =IF(OR(F23="", G23=""), "", DATEDIF(F23, G23+1, "y") & " años, " & DATEDIF(F23, G23+1, "ym") & " mes y " & DATEDIF(F23, G23+1, "md") & " días") | I23: =IF(OR(F23="", G23=""), 0, DATEDIF(F23,G23+1,"y")*1000000 + DATEDIF(F23,G23+1,"ym")*1000 + DATEDIF(F23,G23+1,"md")) -> 0
H24: =IF(OR(F24="", G24=""), "", DATEDIF(F24, G24+1, "y") & " años, " & DATEDIF(F24, G24+1, "ym") & " mes y " & DATEDIF(F24, G24+1, "md") & " días") | I24: =IF(OR(F24="", G24=""), 0, DATEDIF(F24,G24+1,"y")*1000000 + DATEDIF(F24,G24+1,"ym")*1000 + DATEDIF(F24,G24+1,"md")) -> 0
H25: =IF(OR(F25="", G25=""), "", DATEDIF(F25, G25+1, "y") & " años, " & DATEDIF(F25, G25+1, "ym") & " mes y " & DATEDIF(F25, G25+1, "md") & " días") | I25: =IF(OR(F25="", G25=""), 0, DATEDIF(F25,G25+1,"y")*1000000 + DATEDIF(F25,G25+1,"ym")*1000 + DATEDIF(F25,G25+1,"md")) -> 0
H26: =IF(OR(F26="", G26=""), "", DATEDIF(F26, G26+1, "y") & " años, " & DATEDIF(F26, G26+1, "ym") & " mes y " & DATEDIF(F26, G26+1, "md") & " días") | I26: =IF(OR(F26="", G26=""), 0, DATEDIF(F26,G26+1,"y")*1000000 + DATEDIF(F26,G26+1,"ym")*1000 + DATEDIF(F26,G26+1,"md")) -> 0
H27: =IF(OR(F27="", G27=""), "", DATEDIF(F27, G27+1, "y") & " años, " & DATEDIF(F27, G27+1, "ym") & " mes y " & DATEDIF(F27, G27+1, "md") & " días") | I27: =IF(OR(F27="", G27=""), 0, DATEDIF(F27,G27+1,"y")*1000000 + DATEDIF(F27,G27+1,"ym")*1000 + DATEDIF(F27,G27+1,"md")) -> 0
H28: =IF(OR(F28="", G28=""), "", DATEDIF(F28, G28+1, "y") & " años, " & DATEDIF(F28, G28+1, "ym") & " mes y " & DATEDIF(F28, G28+1, "md") & " días") | I28: =IF(OR(F28="", G28=""), 0, DATEDIF(F28,G28+1,"y")*1000000 + DATEDIF(F28,G28+1,"ym")*1000 + DATEDIF(F28,G28+1,"md")) -> 0
H29: =IF(OR(F29="", G29=""), "", DATEDIF(F29, G29+1, "y") & " años, " & DATEDIF(F29, G29+1, "ym") & " mes y " & DATEDIF(F29, G29+1, "md") & " días") | I29: =IF(OR(F29="", G29=""), 0, DATEDIF(F29,G29+1,"y")*1000000 + DATEDIF(F29,G29+1,"ym")*1000 + DATEDIF(F29,G29+1,"md")) -> 0
F30: Total computado | H30: =IF(I30=0, "", (INT(I30/1000000)+INT((MOD(INT(I30/1000),1000)+INT(MOD(I30,1000)/30))/12)) & " años, " & MOD(MOD(INT(I30/1000),1000)+INT(MOD(I30,1000)/30),12) & " mes y " & MOD(MOD(I30,1000),30) & " días") -> 1 años, 0 mes y 1 días | I30: =SUM(I22:I29) -> 1000001
C34: DOMINIO DE LENGUAS INDÍGENAS NACIONALES
C35: Bajo protesta de decir verdad, manifiesto que poseo habilidades de comunicación en la o las siguientes lenguas indígenas nacionales:
C36: NO. | D36: LENGUA | E36: VARIANTE | F36: NIVEL DE DOMINIO
C37: 1 | D37: Mixteco | E37: Mixteco | F37: La entiendo, la hablo fluidamente, la escribo, la interpreto y la traduzco
C38: 2
C39: 3
C42: =IF(C5="","",C5) -> JUAN JOSÉ GONZÁLEZ PÉREZ
C43: NOMBRE Y FIRMA DE LA PERSONA ASPIRANTE
